BEGIN:VCALENDAR
VERSION:2.0
PRODID:-//Markedspartner//HubSpot Event Export//EN
CALSCALE:GREGORIAN
METHOD:PUBLISH
BEGIN:VEVENT
UID:hubspot-2-39126766-268966838498@markedspartner.no
DTSTAMP:20260419T192126Z
DTSTART:20260605T063000Z
DTEND:20260605T083000Z
SUMMARY:B2B Nettverksfrokost for nye medlemmer
END:VEVENT
END:VCALENDAR
