BEGIN:VCALENDAR
VERSION:2.0
PRODID:-//Markedspartner//HubSpot Event Export//EN
CALSCALE:GREGORIAN
METHOD:PUBLISH
BEGIN:VEVENT
UID:hubspot-2-39126766-269465883852@markedspartner.no
DTSTAMP:20260419T164949Z
DTSTART:20261127T073000Z
DTEND:20261127T093000Z
SUMMARY:B2B Nettverksfrokost for nye medlemmer
END:VEVENT
END:VCALENDAR
