BEGIN:VCALENDAR
VERSION:2.0
PRODID:-//Markedspartner//HubSpot Event Export//EN
CALSCALE:GREGORIAN
METHOD:PUBLISH
BEGIN:VEVENT
UID:hubspot-2-39126766-275893784815@markedspartner.no
DTSTAMP:20260419T164948Z
DTSTART:20251126T123000Z
DTEND:20251126T143000Z
SUMMARY: TECH-besøk til Aker BPs nybygg 
END:VEVENT
END:VCALENDAR
