BEGIN:VCALENDAR
VERSION:2.0
PRODID:-//Markedspartner//HubSpot Event Export//EN
CALSCALE:GREGORIAN
METHOD:PUBLISH
BEGIN:VEVENT
UID:hubspot-2-39126766-278286762186@markedspartner.no
DTSTAMP:20260420T041237Z
DTSTART:20251125T073000Z
DTEND:20251125T090000Z
SUMMARY:Tilbake med ny bok: Frokostmøte med Martin Bech Holte
END:VEVENT
END:VCALENDAR
