BEGIN:VCALENDAR
VERSION:2.0
PRODID:-//Markedspartner//HubSpot Event Export//EN
CALSCALE:GREGORIAN
METHOD:PUBLISH
BEGIN:VEVENT
UID:hubspot-2-39126766-281485537509@markedspartner.no
DTSTAMP:20260419T164918Z
DTSTART:20260116T080000Z
DTEND:20260116T100000Z
SUMMARY:Job search and career: Career Guidence 
END:VEVENT
END:VCALENDAR
