BEGIN:VCALENDAR
VERSION:2.0
PRODID:-//Markedspartner//HubSpot Event Export//EN
CALSCALE:GREGORIAN
METHOD:PUBLISH
BEGIN:VEVENT
UID:hubspot-2-39126766-290706244854@markedspartner.no
DTSTAMP:20260419T192127Z
DTSTART:20260423T160000Z
DTEND:20260423T190000Z
SUMMARY:Jærbørsen 2026: Hva skal bygges på Jæren?
END:VEVENT
END:VCALENDAR
