BEGIN:VCALENDAR
VERSION:2.0
PRODID:-//Markedspartner//HubSpot Event Export//EN
CALSCALE:GREGORIAN
METHOD:PUBLISH
BEGIN:VEVENT
UID:hubspot-2-39126766-290769341663@markedspartner.no
DTSTAMP:20260419T164925Z
DTSTART:20260202T160000Z
DTEND:20260202T180000Z
SUMMARY:Samling fagråd og lokalstyrer i Næringsforeningen
END:VEVENT
END:VCALENDAR
