BEGIN:VCALENDAR
VERSION:2.0
PRODID:-//Markedspartner//HubSpot Event Export//EN
CALSCALE:GREGORIAN
METHOD:PUBLISH
BEGIN:VEVENT
UID:hubspot-2-39126766-291051159777@markedspartner.no
DTSTAMP:20260419T192134Z
DTSTART:20260218T070000Z
DTEND:20260218T090000Z
SUMMARY:Salg for selgere: Veien til lønnsomhet
END:VEVENT
END:VCALENDAR
