BEGIN:VCALENDAR
VERSION:2.0
PRODID:-//Markedspartner//HubSpot Event Export//EN
CALSCALE:GREGORIAN
METHOD:PUBLISH
BEGIN:VEVENT
UID:hubspot-2-39126766-291407803592@markedspartner.no
DTSTAMP:20260419T192017Z
DTSTART:20260212T170000Z
DTEND:20260212T200000Z
SUMMARY:Treffpunkt Jæren: Norsk olje og gass fram mot 2030
END:VEVENT
END:VCALENDAR
