BEGIN:VCALENDAR
VERSION:2.0
PRODID:-//Markedspartner//HubSpot Event Export//EN
CALSCALE:GREGORIAN
METHOD:PUBLISH
BEGIN:VEVENT
UID:hubspot-2-39126766-292490961141@markedspartner.no
DTSTAMP:20260419T192016Z
DTSTART:20260918T060000Z
DTEND:20260918T080000Z
SUMMARY:SALG FOR SELGERE: DISA og kundetyper
END:VEVENT
END:VCALENDAR
