BEGIN:VCALENDAR
VERSION:2.0
PRODID:-//Markedspartner//HubSpot Event Export//EN
CALSCALE:GREGORIAN
METHOD:PUBLISH
BEGIN:VEVENT
UID:hubspot-2-39126766-292578545854@markedspartner.no
DTSTAMP:20260419T164949Z
DTSTART:20260417T060000Z
DTEND:20260417T083000Z
SUMMARY:SALG FOR SELGERE: c
END:VEVENT
END:VCALENDAR
