BEGIN:VCALENDAR
VERSION:2.0
PRODID:-//Markedspartner//HubSpot Event Export//EN
CALSCALE:GREGORIAN
METHOD:PUBLISH
BEGIN:VEVENT
UID:hubspot-2-39126766-292578545887@markedspartner.no
DTSTAMP:20260419T164948Z
DTSTART:20261106T070000Z
DTEND:20261106T090000Z
SUMMARY:SALG FOR SELGERE: Kommunikasjon og Etikette
END:VEVENT
END:VCALENDAR
