BEGIN:VCALENDAR
VERSION:2.0
PRODID:-//Markedspartner//HubSpot Event Export//EN
CALSCALE:GREGORIAN
METHOD:PUBLISH
BEGIN:VEVENT
UID:hubspot-2-39126766-294164486342@markedspartner.no
DTSTAMP:20260419T192017Z
DTSTART:20260124T063000Z
DTEND:20260124T170000Z
SUMMARY:Cross-country skiing for the first time
END:VEVENT
END:VCALENDAR
