BEGIN:VCALENDAR
VERSION:2.0
PRODID:-//Markedspartner//HubSpot Event Export//EN
CALSCALE:GREGORIAN
METHOD:PUBLISH
BEGIN:VEVENT
UID:hubspot-2-39126766-294167363804@markedspartner.no
DTSTAMP:20260419T164925Z
DTSTART:20260207T070000Z
DTEND:20260207T170000Z
SUMMARY:Cross-country skiing for the first time 2026
END:VEVENT
END:VCALENDAR
