BEGIN:VCALENDAR
VERSION:2.0
PRODID:-//Markedspartner//HubSpot Event Export//EN
CALSCALE:GREGORIAN
METHOD:PUBLISH
BEGIN:VEVENT
UID:hubspot-2-39126766-298239745210@markedspartner.no
DTSTAMP:20260419T164922Z
DTSTART:20251209T170000Z
DTEND:20251209T210000Z
SUMMARY:Treffpunkt Ryfylke med middag: Vi besøker Årdal Aqua
END:VEVENT
END:VCALENDAR
