BEGIN:VCALENDAR
VERSION:2.0
PRODID:-//Markedspartner//HubSpot Event Export//EN
CALSCALE:GREGORIAN
METHOD:PUBLISH
BEGIN:VEVENT
UID:hubspot-2-39126766-298866820332@markedspartner.no
DTSTAMP:20260419T192135Z
DTSTART:20260310T080000Z
DTEND:20260310T100000Z
SUMMARY:Job search and career: Interview
END:VEVENT
END:VCALENDAR
