BEGIN:VCALENDAR
VERSION:2.0
PRODID:-//Markedspartner//HubSpot Event Export//EN
CALSCALE:GREGORIAN
METHOD:PUBLISH
BEGIN:VEVENT
UID:hubspot-2-39126766-298866827464@markedspartner.no
DTSTAMP:20260419T164925Z
DTSTART:20251210T073000Z
DTEND:20251210T093000Z
SUMMARY:AGENDA BYGG: Slik kan vi bygge aldersvennlige boliger
END:VEVENT
END:VCALENDAR
