BEGIN:VCALENDAR
VERSION:2.0
PRODID:-//Markedspartner//HubSpot Event Export//EN
CALSCALE:GREGORIAN
METHOD:PUBLISH
BEGIN:VEVENT
UID:hubspot-2-39126766-298866832622@markedspartner.no
DTSTAMP:20260419T164949Z
DTSTART:20260424T090000Z
DTEND:20260424T110000Z
SUMMARY:Lederskolen med Mette Aanes
END:VEVENT
END:VCALENDAR
