BEGIN:VCALENDAR
VERSION:2.0
PRODID:-//Markedspartner//HubSpot Event Export//EN
CALSCALE:GREGORIAN
METHOD:PUBLISH
BEGIN:VEVENT
UID:hubspot-2-39126766-299268857028@markedspartner.no
DTSTAMP:20260419T164950Z
DTSTART:20260220T100000Z
DTEND:20260220T120000Z
SUMMARY:Lederskolen med Torhild Anita Sørengaard
END:VEVENT
END:VCALENDAR
