BEGIN:VCALENDAR
VERSION:2.0
PRODID:-//Markedspartner//HubSpot Event Export//EN
CALSCALE:GREGORIAN
METHOD:PUBLISH
BEGIN:VEVENT
UID:hubspot-2-39126766-300594144482@markedspartner.no
DTSTAMP:20260419T164951Z
DTSTART:20260210T080000Z
DTEND:20260210T100000Z
SUMMARY:Job Search and Career: Optimize your CV and LinkedIn
END:VEVENT
END:VCALENDAR
