BEGIN:VCALENDAR
VERSION:2.0
PRODID:-//Markedspartner//HubSpot Event Export//EN
CALSCALE:GREGORIAN
METHOD:PUBLISH
BEGIN:VEVENT
UID:hubspot-2-39126766-302156387558@markedspartner.no
DTSTAMP:20260419T164916Z
DTSTART:20260130T100000Z
DTEND:20260130T120000Z
SUMMARY:Lederskolen med Tom Remlov
END:VEVENT
END:VCALENDAR
