BEGIN:VCALENDAR
VERSION:2.0
PRODID:-//Markedspartner//HubSpot Event Export//EN
CALSCALE:GREGORIAN
METHOD:PUBLISH
BEGIN:VEVENT
UID:hubspot-2-39126766-302192207066@markedspartner.no
DTSTAMP:20260419T192017Z
DTSTART:20260522T090000Z
DTEND:20260522T110000Z
SUMMARY:Lederskolen med Mads Nordmo Arnestad
END:VEVENT
END:VCALENDAR
