BEGIN:VCALENDAR
VERSION:2.0
PRODID:-//Markedspartner//HubSpot Event Export//EN
CALSCALE:GREGORIAN
METHOD:PUBLISH
BEGIN:VEVENT
UID:hubspot-2-39126766-308103175416@markedspartner.no
DTSTAMP:20260419T164950Z
DTSTART:20260722T060000Z
DTEND:20260725T140000Z
SUMMARY:Tall Ships Races i Stavanger 22.–25. juli 2026
END:VEVENT
END:VCALENDAR
