BEGIN:VCALENDAR
VERSION:2.0
PRODID:-//Markedspartner//HubSpot Event Export//EN
CALSCALE:GREGORIAN
METHOD:PUBLISH
BEGIN:VEVENT
UID:hubspot-2-39126766-309056475378@markedspartner.no
DTSTAMP:20260420T053342Z
DTSTART:20260305T103000Z
DTEND:20260305T143000Z
SUMMARY:Dalane: Introduksjonskurs i styrearbeid
END:VEVENT
END:VCALENDAR
