BEGIN:VCALENDAR
VERSION:2.0
PRODID:-//Markedspartner//HubSpot Event Export//EN
CALSCALE:GREGORIAN
METHOD:PUBLISH
BEGIN:VEVENT
UID:hubspot-2-39126766-315734531310@markedspartner.no
DTSTAMP:20260419T164923Z
DTSTART:20260108T080000Z
DTEND:20260108T150000Z
SUMMARY:Konferanse UiS: Samfunnssikkerhet
END:VEVENT
END:VCALENDAR
