BEGIN:VCALENDAR
VERSION:2.0
PRODID:-//Markedspartner//HubSpot Event Export//EN
CALSCALE:GREGORIAN
METHOD:PUBLISH
BEGIN:VEVENT
UID:hubspot-2-39126766-317655983301@markedspartner.no
DTSTAMP:20260419T192017Z
DTSTART:20260312T070000Z
DTEND:20260312T140000Z
SUMMARY:Introduksjonskurs i styrearbeid 2026
END:VEVENT
END:VCALENDAR
