BEGIN:VCALENDAR
VERSION:2.0
PRODID:-//Markedspartner//HubSpot Event Export//EN
CALSCALE:GREGORIAN
METHOD:PUBLISH
BEGIN:VEVENT
UID:hubspot-2-39126766-317851430077@markedspartner.no
DTSTAMP:20260419T192135Z
DTSTART:20260130T100000Z
DTEND:20260522T110000Z
SUMMARY:Alle samlinger lederskolen våren 2026
END:VEVENT
END:VCALENDAR
