BEGIN:VCALENDAR
VERSION:2.0
PRODID:-//Markedspartner//HubSpot Event Export//EN
CALSCALE:GREGORIAN
METHOD:PUBLISH
BEGIN:VEVENT
UID:hubspot-2-39126766-318950179019@markedspartner.no
DTSTAMP:20260419T164922Z
DTSTART:20260310T080000Z
DTEND:20260310T160000Z
SUMMARY:High Wind Conference 2026
END:VEVENT
END:VCALENDAR
