BEGIN:VCALENDAR
VERSION:2.0
PRODID:-//Markedspartner//HubSpot Event Export//EN
CALSCALE:GREGORIAN
METHOD:PUBLISH
BEGIN:VEVENT
UID:hubspot-2-39126766-319114696935@markedspartner.no
DTSTAMP:20260420T041252Z
DTSTART:20260227T073000Z
DTEND:20260227T123000Z
SUMMARY:Area Orientation
END:VEVENT
END:VCALENDAR
