BEGIN:VCALENDAR
VERSION:2.0
PRODID:-//Markedspartner//HubSpot Event Export//EN
CALSCALE:GREGORIAN
METHOD:PUBLISH
BEGIN:VEVENT
UID:hubspot-2-39126766-319151839481@markedspartner.no
DTSTAMP:20260419T164947Z
DTSTART:20260128T073000Z
DTEND:20260128T123000Z
SUMMARY:Area Orientation
END:VEVENT
END:VCALENDAR
