BEGIN:VCALENDAR
VERSION:2.0
PRODID:-//Markedspartner//HubSpot Event Export//EN
CALSCALE:GREGORIAN
METHOD:PUBLISH
BEGIN:VEVENT
UID:hubspot-2-39126766-319187619032@markedspartner.no
DTSTAMP:20260420T120104Z
DTSTART:20260422T063000Z
DTEND:20260422T113000Z
SUMMARY:Area Orientation
END:VEVENT
END:VCALENDAR
