BEGIN:VCALENDAR
VERSION:2.0
PRODID:-//Markedspartner//HubSpot Event Export//EN
CALSCALE:GREGORIAN
METHOD:PUBLISH
BEGIN:VEVENT
UID:hubspot-2-39126766-319198057685@markedspartner.no
DTSTAMP:20260419T233807Z
DTSTART:20260318T073000Z
DTEND:20260318T123000Z
SUMMARY:Area Orientation
END:VEVENT
END:VCALENDAR
