BEGIN:VCALENDAR
VERSION:2.0
PRODID:-//Markedspartner//HubSpot Event Export//EN
CALSCALE:GREGORIAN
METHOD:PUBLISH
BEGIN:VEVENT
UID:hubspot-2-39126766-322156174576@markedspartner.no
DTSTAMP:20260419T164921Z
DTSTART:20260210T104500Z
DTEND:20260210T140000Z
SUMMARY:Treffpunkt Dalane: Dalanebørsen
END:VEVENT
END:VCALENDAR
