BEGIN:VCALENDAR
VERSION:2.0
PRODID:-//Markedspartner//HubSpot Event Export//EN
CALSCALE:GREGORIAN
METHOD:PUBLISH
BEGIN:VEVENT
UID:hubspot-2-39126766-324091565295@markedspartner.no
DTSTAMP:20260419T164923Z
DTSTART:20260922T060000Z
DTEND:20260922T080000Z
SUMMARY: Energifrokost
END:VEVENT
END:VCALENDAR
