BEGIN:VCALENDAR
VERSION:2.0
PRODID:-//Markedspartner//HubSpot Event Export//EN
CALSCALE:GREGORIAN
METHOD:PUBLISH
BEGIN:VEVENT
UID:hubspot-2-39126766-324617485550@markedspartner.no
DTSTAMP:20260419T164923Z
DTSTART:20260505T060000Z
DTEND:20260505T080000Z
SUMMARY:Energifrokost: Kjernekraft – muligheter og utfordringer 
END:VEVENT
END:VCALENDAR
