BEGIN:VCALENDAR
VERSION:2.0
PRODID:-//Markedspartner//HubSpot Event Export//EN
CALSCALE:GREGORIAN
METHOD:PUBLISH
BEGIN:VEVENT
UID:hubspot-2-39126766-324618205431@markedspartner.no
DTSTAMP:20260419T164916Z
DTSTART:20260303T070000Z
DTEND:20260303T090000Z
SUMMARY:Vi kjører debatten om omstillingskommisjonen!
END:VEVENT
END:VCALENDAR
