BEGIN:VCALENDAR
VERSION:2.0
PRODID:-//Markedspartner//HubSpot Event Export//EN
CALSCALE:GREGORIAN
METHOD:PUBLISH
BEGIN:VEVENT
UID:hubspot-2-39126766-325264030912@markedspartner.no
DTSTAMP:20260420T065248Z
DTSTART:20260204T163000Z
DTEND:20260204T200000Z
SUMMARY:Byggebørsen 2026: Dette er prosjektene som kommer
END:VEVENT
END:VCALENDAR
