BEGIN:VCALENDAR
VERSION:2.0
PRODID:-//Markedspartner//HubSpot Event Export//EN
CALSCALE:GREGORIAN
METHOD:PUBLISH
BEGIN:VEVENT
UID:hubspot-2-39126766-325588188400@markedspartner.no
DTSTAMP:20260420T041239Z
DTSTART:20260326T170000Z
DTEND:20260326T194500Z
SUMMARY:Taxation seminar
END:VEVENT
END:VCALENDAR
