BEGIN:VCALENDAR
VERSION:2.0
PRODID:-//Markedspartner//HubSpot Event Export//EN
CALSCALE:GREGORIAN
METHOD:PUBLISH
BEGIN:VEVENT
UID:hubspot-2-39126766-326491514062@markedspartner.no
DTSTAMP:20260419T192017Z
DTSTART:20260204T080000Z
DTEND:20260204T103000Z
SUMMARY:Lean-besøk til Gilje Tre
END:VEVENT
END:VCALENDAR
