BEGIN:VCALENDAR
VERSION:2.0
PRODID:-//Markedspartner//HubSpot Event Export//EN
CALSCALE:GREGORIAN
METHOD:PUBLISH
BEGIN:VEVENT
UID:hubspot-2-39126766-326668416205@markedspartner.no
DTSTAMP:20260420T053227Z
DTSTART:20260203T173000Z
DTEND:20260203T193000Z
SUMMARY:Company visit to Time and Date AS
END:VEVENT
END:VCALENDAR
