BEGIN:VCALENDAR
VERSION:2.0
PRODID:-//Markedspartner//HubSpot Event Export//EN
CALSCALE:GREGORIAN
METHOD:PUBLISH
BEGIN:VEVENT
UID:hubspot-2-39126766-369566780640@markedspartner.no
DTSTAMP:20260420T065834Z
DTSTART:20260204T070000Z
DTEND:20260204T090000Z
SUMMARY:Norway Arena: Norges offisielle møteplass under fotball-VM!
END:VEVENT
END:VCALENDAR
