BEGIN:VCALENDAR
VERSION:2.0
PRODID:-//Markedspartner//HubSpot Event Export//EN
CALSCALE:GREGORIAN
METHOD:PUBLISH
BEGIN:VEVENT
UID:hubspot-2-39126766-415128625391@markedspartner.no
DTSTAMP:20260420T041237Z
DTSTART:20260603T110000Z
DTEND:20260603T180000Z
SUMMARY:Hacks to the Futures 2026: Framtidsfestivalen som gir deg innsikt\, kunnskap og inspirasjon
END:VEVENT
END:VCALENDAR
