BEGIN:VCALENDAR
VERSION:2.0
PRODID:-//Markedspartner//HubSpot Event Export//EN
CALSCALE:GREGORIAN
METHOD:PUBLISH
BEGIN:VEVENT
UID:hubspot-2-39126766-415137278182@markedspartner.no
DTSTAMP:20260421T053210Z
DTSTART:20260527T060000Z
DTEND:20260527T083000Z
SUMMARY:B2B Pitch
END:VEVENT
END:VCALENDAR
