BEGIN:VCALENDAR
VERSION:2.0
PRODID:-//Markedspartner//HubSpot Event Export//EN
CALSCALE:GREGORIAN
METHOD:PUBLISH
BEGIN:VEVENT
UID:hubspot-2-39126766-426404217078@markedspartner.no
DTSTAMP:20260420T102448Z
DTSTART:20261105T080000Z
DTEND:20261105T140000Z
SUMMARY:Lederkonferansen FOLK 2026
END:VEVENT
END:VCALENDAR
