BEGIN:VCALENDAR
VERSION:2.0
PRODID:-//Markedspartner//HubSpot Event Export//EN
CALSCALE:GREGORIAN
METHOD:PUBLISH
BEGIN:VEVENT
UID:hubspot-2-39126766-426934248677@markedspartner.no
DTSTAMP:20260421T190428Z
DTSTART:20260916T060000Z
DTEND:20260916T083000Z
SUMMARY:Job Search and Career: Optimize your CV
END:VEVENT
END:VCALENDAR
