BEGIN:VCALENDAR
VERSION:2.0
PRODID:-//Markedspartner//HubSpot Event Export//EN
CALSCALE:GREGORIAN
METHOD:PUBLISH
BEGIN:VEVENT
UID:hubspot-2-39126766-426934961373@markedspartner.no
DTSTAMP:20260421T192514Z
DTSTART:20260929T160000Z
DTEND:20260929T180000Z
SUMMARY:The do´s and don´ts when renting a property
END:VEVENT
END:VCALENDAR
