BEGIN:VCALENDAR
VERSION:2.0
PRODID:-//Markedspartner//HubSpot Event Export//EN
CALSCALE:GREGORIAN
METHOD:PUBLISH
BEGIN:VEVENT
UID:hubspot-2-39126766-426934963386@markedspartner.no
DTSTAMP:20260421T191042Z
DTSTART:20261014T060000Z
DTEND:20261014T083000Z
SUMMARY:Job search and career - Interview 
END:VEVENT
END:VCALENDAR
