BEGIN:VCALENDAR
VERSION:2.0
PRODID:-//Markedspartner//HubSpot Event Export//EN
CALSCALE:GREGORIAN
METHOD:PUBLISH
BEGIN:VEVENT
UID:hubspot-2-39126766-427007365343@markedspartner.no
DTSTAMP:20260421T105025Z
DTSTART:20260620T090000Z
DTEND:20260620T123000Z
SUMMARY:Fjordcruise to Ryfylke
END:VEVENT
END:VCALENDAR
