BEGIN:VCALENDAR
VERSION:2.0
PRODID:-//Markedspartner//HubSpot Event Export//EN
CALSCALE:GREGORIAN
METHOD:PUBLISH
BEGIN:VEVENT
UID:hubspot-2-39126766-427782137046@markedspartner.no
DTSTAMP:20260424T160004Z
DTSTART:20261019T163000Z
DTEND:20261019T190000Z
SUMMARY:Buying a House?
END:VEVENT
END:VCALENDAR
